BEGIN:VCALENDAR
VERSION:2.0
PRODID:-//pretix//NääsPeksi-kauppa//
BEGIN:VTIMEZONE
TZID:Europe/Helsinki
BEGIN:STANDARD
DTSTART:20001029T040000
RRULE:FREQ=YEARLY;BYDAY=-1SU;BYMONTH=10
TZNAME:EET
TZOFFSETFROM:+0300
TZOFFSETTO:+0200
END:STANDARD
BEGIN:DAYLIGHT
DTSTART:20000326T030000
RRULE:FREQ=YEARLY;BYDAY=-1SU;BYMONTH=3
TZNAME:EEST
TZOFFSETFROM:+0200
TZOFFSETTO:+0300
END:DAYLIGHT
END:VTIMEZONE
BEGIN:VEVENT
UID:pretix-naaspeksi-speksijuhannus23-0@kauppa.naaspeksi.fi
DTSTART;TZID=Europe/Helsinki:20230622T150000
DTEND;TZID=Europe/Helsinki:20230625T160000
DESCRIPTION:Tickets: https://kauppa.naaspeksi.fi/naaspeksi/speksijuhannus23
 /\nOrganizer: NääsPeksi
DTSTAMP:20260424T154955Z
LOCATION:Vallitun leirikeskus\, Vallituntie 140\, 36200 Kangasala
SUMMARY:SpeksiJuhannus
END:VEVENT
END:VCALENDAR
