BEGIN:VCALENDAR
VERSION:2.0
PRODID:-//pretix//NääsPeksi-kauppa//
BEGIN:VEVENT
UID:pretix-naaspeksi-kasis26-0@kauppa.naaspeksi.fi
DTSTART:20260302T170000Z
DTEND:20260318T200000Z
DESCRIPTION:Tickets: https://kauppa.naaspeksi.fi/naaspeksi/kasis26/\nOrgani
 zer: NääsPeksi
DTSTAMP:20260424T154706Z
SUMMARY:NääsPeksin käsikirjoituskurssi 2026
END:VEVENT
END:VCALENDAR
