BEGIN:VCALENDAR
VERSION:2.0
PRODID:-//pretix//NääsPeksi-kauppa//
BEGIN:VTIMEZONE
TZID:Europe/Helsinki
BEGIN:STANDARD
DTSTART:20001029T040000
RRULE:FREQ=YEARLY;BYDAY=-1SU;BYMONTH=10
TZNAME:EET
TZOFFSETFROM:+0300
TZOFFSETTO:+0200
END:STANDARD
BEGIN:DAYLIGHT
DTSTART:20000326T030000
RRULE:FREQ=YEARLY;BYDAY=-1SU;BYMONTH=3
TZNAME:EEST
TZOFFSETFROM:+0200
TZOFFSETTO:+0300
END:DAYLIGHT
END:VTIMEZONE
BEGIN:VEVENT
UID:pretix-naaspeksi-kasis2023-0@kauppa.naaspeksi.fi
DTSTART;TZID=Europe/Helsinki:20230308T180000
DTEND;TZID=Europe/Helsinki:20230327T210000
DESCRIPTION:Tickets: https://kauppa.naaspeksi.fi/naaspeksi/kasis2023/\nOrga
 nizer: NääsPeksi
DTSTAMP:20260424T154631Z
LOCATION:Tampereen yliopisto\, Hervannan kampus
SUMMARY:Käsikirjoituskurssi 2023
END:VEVENT
END:VCALENDAR
