BEGIN:VCALENDAR
VERSION:2.0
PRODID:-//pretix//NääsPeksi-kauppa//
BEGIN:VTIMEZONE
TZID:Europe/Helsinki
BEGIN:STANDARD
DTSTART:20001029T040000
RRULE:FREQ=YEARLY;BYDAY=-1SU;BYMONTH=10
TZNAME:EET
TZOFFSETFROM:+0300
TZOFFSETTO:+0200
END:STANDARD
BEGIN:DAYLIGHT
DTSTART:20000326T030000
RRULE:FREQ=YEARLY;BYDAY=-1SU;BYMONTH=3
TZNAME:EEST
TZOFFSETFROM:+0200
TZOFFSETTO:+0300
END:DAYLIGHT
END:VTIMEZONE
BEGIN:VEVENT
UID:pretix-naaspeksi-interspeksi-2024-0@kauppa.naaspeksi.fi
DTSTART;TZID=Europe/Helsinki:20240216T183000
DTEND;TZID=Europe/Helsinki:20240217T160000
DESCRIPTION:Tickets: https://kauppa.naaspeksi.fi/naaspeksi/interspeksi-2024
 /\nOrganizer: NääsPeksi
DTSTAMP:20260424T154949Z
LOCATION:Tallink Victoria I\, Helsinki - Tallinna - Helsinki
SUMMARY:IntersPeksiristeily 2024
END:VEVENT
END:VCALENDAR
