BEGIN:VCALENDAR
VERSION:2.0
PRODID:-//pretix//NääsPeksi-kauppa//
BEGIN:VTIMEZONE
TZID:Europe/Helsinki
BEGIN:STANDARD
DTSTART:20001029T040000
RRULE:FREQ=YEARLY;BYDAY=-1SU;BYMONTH=10
TZNAME:EET
TZOFFSETFROM:+0300
TZOFFSETTO:+0200
END:STANDARD
BEGIN:DAYLIGHT
DTSTART:20000326T030000
RRULE:FREQ=YEARLY;BYDAY=-1SU;BYMONTH=3
TZNAME:EEST
TZOFFSETFROM:+0200
TZOFFSETTO:+0300
END:DAYLIGHT
END:VTIMEZONE
BEGIN:VEVENT
UID:pretix-naaspeksi-25vujut-0@kauppa.naaspeksi.fi
DTSTART;TZID=Europe/Helsinki:20240518T163000
DTEND;TZID=Europe/Helsinki:20240519T230000
DESCRIPTION:Tickets: https://kauppa.naaspeksi.fi/naaspeksi/25vujut/\nOrgani
 zer: NääsPeksi
DTSTAMP:20260424T154630Z
LOCATION:Pikante 36 Ravintola\,\nHatanpään Valtatie 36\,\n33100\, Tampere
SUMMARY:NääsPeksin 25-vuotisvuosijuhlat
END:VEVENT
END:VCALENDAR
